BEGIN:VCALENDAR
VERSION:2.0
PRODID:-//Initchess - ECPv6.10.2//NONSGML v1.0//EN
CALSCALE:GREGORIAN
METHOD:PUBLISH
X-WR-CALNAME:Initchess
X-ORIGINAL-URL:https://initchess.fr
X-WR-CALDESC:Évènements pour Initchess
REFRESH-INTERVAL;VALUE=DURATION:PT1H
X-Robots-Tag:noindex
X-PUBLISHED-TTL:PT1H
BEGIN:VTIMEZONE
TZID:Europe/Paris
BEGIN:DAYLIGHT
TZOFFSETFROM:+0100
TZOFFSETTO:+0200
TZNAME:CEST
DTSTART:20220327T010000
END:DAYLIGHT
BEGIN:STANDARD
TZOFFSETFROM:+0200
TZOFFSETTO:+0100
TZNAME:CET
DTSTART:20221030T010000
END:STANDARD
END:VTIMEZONE
BEGIN:VEVENT
DTSTART;TZID=Europe/Paris:20220713T140000
DTEND;TZID=Europe/Paris:20220713T180000
DTSTAMP:20260421T134939
CREATED:20220621T111112Z
LAST-MODIFIED:20220621T111702Z
UID:460-1657720800-1657735200@initchess.fr
SUMMARY:Crépy Plage
DESCRIPTION:Retrouvez nous de 14h à 18h sur Crépy Plage (Parc Saint Agathe).\nPour les débutants\, pas de soucis\, vous pourrez vous initier à la pratique des échecs ( nombreux échiquiers\, magazines et règles à disposition gratuitement).\nLes initiés pourront eux aussi nous rejoindre autour d’un échiquier XXL pour des parties acharnées.\nOn vous attends avec impatience. \n 
URL:https://initchess.fr/event/crepy-plage/
LOCATION:Parc Saint Agathe
CATEGORIES:Animation
END:VEVENT
BEGIN:VEVENT
DTSTART;TZID=Europe/Paris:20220615T100000
DTEND;TZID=Europe/Paris:20220615T120000
DTSTAMP:20260421T134939
CREATED:20220426T194637Z
LAST-MODIFIED:20220426T194637Z
UID:414-1655287200-1655294400@initchess.fr
SUMMARY:Animation atelier jeu échecs
DESCRIPTION:Animation atelier n°4 \n– Présentation mats élémentaires \n– Présentation mats célèbres \n– Jeux
URL:https://initchess.fr/event/animation-atelier-jeu-echecs-4/
LOCATION:Orrouy
CATEGORIES:Animation
END:VEVENT
BEGIN:VEVENT
DTSTART;TZID=Europe/Paris:20220608T100000
DTEND;TZID=Europe/Paris:20220608T120000
DTSTAMP:20260421T134939
CREATED:20220426T193953Z
LAST-MODIFIED:20220428T203717Z
UID:412-1654682400-1654689600@initchess.fr
SUMMARY:Animation atelier jeu échecs
DESCRIPTION:Animation atelier n°3 \n– Présentation de la partie nulle / Pat \n– Notation partie \n– Jeux
URL:https://initchess.fr/event/animation-atelier-jeu-echecs-3/
LOCATION:Orrouy
CATEGORIES:Animation
END:VEVENT
BEGIN:VEVENT
DTSTART;TZID=Europe/Paris:20220601T100000
DTEND;TZID=Europe/Paris:20220601T120000
DTSTAMP:20260421T134939
CREATED:20220426T193702Z
LAST-MODIFIED:20220426T193702Z
UID:410-1654077600-1654084800@initchess.fr
SUMMARY:Animation atelier jeu échecs
DESCRIPTION:Animation atelier n°2 \n– Présentation de la notion d’échec et de mat \n– Coups Spéciaux \n– Jeux
URL:https://initchess.fr/event/animation-atelier-jeu-echecs-2/
LOCATION:Orrouy
CATEGORIES:Animation
END:VEVENT
BEGIN:VEVENT
DTSTART;TZID=Europe/Paris:20220525T100000
DTEND;TZID=Europe/Paris:20220525T120000
DTSTAMP:20260421T134939
CREATED:20220426T193041Z
LAST-MODIFIED:20220426T193230Z
UID:407-1653472800-1653480000@initchess.fr
SUMMARY:Animation atelier jeu échecs
DESCRIPTION:Animation atelier n°1 \n– Présentation de l’échiquier et des pièces \n– Déplacements des pièces \n– Jeux
URL:https://initchess.fr/event/animation-atelier-jeu-echecs/
LOCATION:Orrouy
CATEGORIES:Animation
END:VEVENT
END:VCALENDAR